BEGIN:VCALENDAR
VERSION:2.0
METHOD:PUBLISH
PRODID:-//Causal Sarl//LionsBase Calendar 5.0.x-dev//DE
TZID:Europe/Zurich
BEGIN:VEVENT
UID:29694_20260618@neuhofen-wiege-oesterreichs.lions.at
DTSTAMP:20260424T115015Z
DTSTART:20260618T163000Z
DTEND:20260618T180000Z
ORGANIZER:LC Neuhofen Wiege Österreichs
LOCATION:Forellenhof Ortmüller\, Neustadtl\, Berghof 12\, 33
 23 Neustadtl a.d. Donau
SUMMARY:12. Vorstandssitzung
DESCRIPTION:
END:VEVENT
END:VCALENDAR
