BEGIN:VCALENDAR
VERSION:2.0
METHOD:PUBLISH
PRODID:-//Causal Sarl//LionsBase Calendar 5.0.x-dev//DE
TZID:Europe/Zurich
BEGIN:VEVENT
UID:29692_20260513@neuhofen-wiege-oesterreichs.lions.at
DTSTAMP:20260424T114656Z
DTSTART:20260513T140000Z
DTEND:20260513T153000Z
ORGANIZER:LC Neuhofen Wiege Österreichs
LOCATION:Relax Resort Kothmühle\, Kothmühle 1\, 3364 Neuhofen an der Ybbs
SUMMARY:11. Vorstandssitzung
DESCRIPTION:
END:VEVENT
END:VCALENDAR
